BEGIN:VCALENDAR
VERSION:2.0
PRODID:-//Ezker Anitza - ECPv6.15.17.1//NONSGML v1.0//EN
CALSCALE:GREGORIAN
METHOD:PUBLISH
X-ORIGINAL-URL:https://ezker-anitza.org
X-WR-CALDESC:Eventos para Ezker Anitza
REFRESH-INTERVAL;VALUE=DURATION:PT1H
X-Robots-Tag:noindex
X-PUBLISHED-TTL:PT1H
BEGIN:VTIMEZONE
TZID:Europe/Madrid
BEGIN:DAYLIGHT
TZOFFSETFROM:+0100
TZOFFSETTO:+0200
TZNAME:CEST
DTSTART:20240331T010000
END:DAYLIGHT
BEGIN:STANDARD
TZOFFSETFROM:+0200
TZOFFSETTO:+0100
TZNAME:CET
DTSTART:20241027T010000
END:STANDARD
BEGIN:DAYLIGHT
TZOFFSETFROM:+0100
TZOFFSETTO:+0200
TZNAME:CEST
DTSTART:20250330T010000
END:DAYLIGHT
BEGIN:STANDARD
TZOFFSETFROM:+0200
TZOFFSETTO:+0100
TZNAME:CET
DTSTART:20251026T010000
END:STANDARD
BEGIN:DAYLIGHT
TZOFFSETFROM:+0100
TZOFFSETTO:+0200
TZNAME:CEST
DTSTART:20260329T010000
END:DAYLIGHT
BEGIN:STANDARD
TZOFFSETFROM:+0200
TZOFFSETTO:+0100
TZNAME:CET
DTSTART:20261025T010000
END:STANDARD
END:VTIMEZONE
BEGIN:VEVENT
DTSTART;TZID=Europe/Madrid:20251113T193000
DTEND;TZID=Europe/Madrid:20251113T213000
DTSTAMP:20260421T124721
CREATED:20251112T160427Z
LAST-MODIFIED:20251112T160532Z
UID:4432-1763062200-1763069400@ezker-anitza.org
SUMMARY:Charla 'Justicia climática y género'
DESCRIPTION:La charla tendrá lugar el 13 de noviembre a las 19:30 horas en Kabigorri de Irun. Tienes más información en el cartel.
URL:https://ezker-anitza.org/event/charla-justicia-climatica-y-genero
END:VEVENT
BEGIN:VEVENT
DTSTART;TZID=Europe/Madrid:20251030T190000
DTEND;TZID=Europe/Madrid:20251030T203000
DTSTAMP:20260421T124721
CREATED:20251008T090953Z
LAST-MODIFIED:20251008T090953Z
UID:4266-1761850800-1761856200@ezker-anitza.org
SUMMARY:Antonio Turiel\, Carlos Taibo y Antonio Aretxabala en Donostia
DESCRIPTION:Antonio Turiel\, Carlos Taibo y Antonio Aretxabala participarán en una charla para destapar la falsa transición: apuntes para una vida en coherencia con al preservación de la naturaleza. 30 de octubre en Viveros de Ulía (Donostia) a las 19:00 horas.
URL:https://ezker-anitza.org/event/antonio-turiel-carlos-taibo-y-antonio-aretxabala-en-donostia
END:VEVENT
BEGIN:VEVENT
DTSTART;TZID=Europe/Madrid:20251015T110000
DTEND;TZID=Europe/Madrid:20251015T140000
DTSTAMP:20260421T124721
CREATED:20251008T083404Z
LAST-MODIFIED:20251008T083404Z
UID:4261-1760526000-1760536800@ezker-anitza.org
SUMMARY:Paro general por Palestina
DESCRIPTION:El 15 de octubre se ha convocado un paro general de 11:00 a 14:00 horas en contra del genocidio israelí en Palestina. La protesta está promovida por las fuerzas sindicales con el objetivo de mostrar solidaridad con el pueblo palestino y exigir a las empresas e instituciones que rompan toda relación comercial con Israel. Esker Anitza-IU secunda el paro general y las manifestaciones convocadas en las  tres capitales vascas ese día. \n \n 
URL:https://ezker-anitza.org/event/paro-general-por-palestina
END:VEVENT
BEGIN:VEVENT
DTSTART;TZID=Europe/Madrid:20251010T190000
DTEND;TZID=Europe/Madrid:20251010T200000
DTSTAMP:20260421T124721
CREATED:20251008T092208Z
LAST-MODIFIED:20251008T092208Z
UID:4271-1760122800-1760126400@ezker-anitza.org
SUMMARY:Feministas con Palestina. Movilización ruidosa en Donostia
DESCRIPTION:Feministas con Palestina es una manifestación ruidosa convocada por colectivos feministas. Será el 10 de octubre  en el Boulevard de Donostia a partir de las 19:00 horas. Lleva alguna cosa para hacer ruido.
URL:https://ezker-anitza.org/event/feministas-con-palestina-movilizacion-ruidosa-en-donostia
END:VEVENT
BEGIN:VEVENT
DTSTART;TZID=Europe/Madrid:20251009T180000
DTEND;TZID=Europe/Madrid:20251009T193000
DTSTAMP:20260421T124721
CREATED:20251008T094248Z
LAST-MODIFIED:20251008T094248Z
UID:4276-1760032800-1760038200@ezker-anitza.org
SUMMARY:Coloquio: Transición ecológica colonial
DESCRIPTION:Aquí tenéis información sobre el coloquio titulado Transición ecológica colonial\, que tendrá lugar en el parque Mintegi de Ulía (Donostia). A partir de las 18:00 horas. \n \n 
URL:https://ezker-anitza.org/event/coloquio-transicion-ecologica-colonial
END:VEVENT
BEGIN:VEVENT
DTSTART;TZID=Europe/Madrid:20250914T110000
DTEND;TZID=Europe/Madrid:20250914T120000
DTSTAMP:20260421T124721
CREATED:20250910T154608Z
LAST-MODIFIED:20250910T154608Z
UID:4146-1757847600-1757851200@ezker-anitza.org
SUMMARY:Cadena humana en Donostia
DESCRIPTION:El 14 de septiembre se realizará una cadena humana contra la incineradora en la playa de La Concha a las 11:00 horas. Partirá de Alderdi Eder.
URL:https://ezker-anitza.org/event/cadena-humana-en-donostia
END:VEVENT
BEGIN:VEVENT
DTSTART;TZID=Europe/Madrid:20250912T170000
DTEND;TZID=Europe/Madrid:20250912T173000
DTSTAMP:20260421T124721
CREATED:20250910T153915Z
LAST-MODIFIED:20250910T153915Z
UID:4143-1757696400-1757698200@ezker-anitza.org
SUMMARY:Protesta contra la participación de un equipo israelí en el Torneo de Ajedrez de Sestao
DESCRIPTION:Se ha convocado una concentración para denunciar la partición de un equipo israelí en el Torneo Internacional de Ajedrez de Sestao. 12 de septiembre a las 17:00 en el gimnasio del Parque de la Iglesia (Sestao).
URL:https://ezker-anitza.org/event/protesta-contra-la-participacion-de-un-equipo-israeli-en-el-torneo-de-ajedrez-de-sestao
END:VEVENT
BEGIN:VEVENT
DTSTART;TZID=Europe/Madrid:20250910T190000
DTEND;TZID=Europe/Madrid:20250910T193000
DTSTAMP:20260421T124721
CREATED:20250910T150359Z
LAST-MODIFIED:20250910T150645Z
UID:4135-1757530800-1757532600@ezker-anitza.org
SUMMARY:Concentración por Palestina (Donostia)
DESCRIPTION:Concentración de apoyo a la Flotilla Internacional que ha partido hacia Palestina con una misión humanitaria. Miércoles\, 10 de septiembre a las 19:00 horas en el Boulevard (Donostia).
URL:https://ezker-anitza.org/event/concentracion-por-palestina-donostia
END:VEVENT
BEGIN:VEVENT
DTSTART;TZID=Europe/Madrid:20250905T170000
DTEND;TZID=Europe/Madrid:20251003T203000
DTSTAMP:20260421T124721
CREATED:20250911T093605Z
LAST-MODIFIED:20250911T094048Z
UID:4156-1757091600-1759523400@ezker-anitza.org
SUMMARY:Pintura realista de Ion Pousa Ruiz de Alegría en Kulturate\, dedicada al "heroico pueblo palestino"
DESCRIPTION:Desde el 5 de septiembre hasta el 3 de octubre se puede ver en el centro Kulturate de Arrasate (Gipuzkoa) una exposición de pintura realista del artista Ion Pousa Ruiz de Alegría\, dedicada al «heroico pueblo palestino».  Se puede visitar de 17:30 a 20:30 horas. La muestra ofrece la posibilidad de colaborar económicamente con la asociación Unadikum que desarrolla distintos proyectos para ayudar a la población de Gaza. Las aportaciones se pueden hacer por Bizum: 622 10 40 72.
URL:https://ezker-anitza.org/event/pintura-realista-de-ion-pousa-ruiz-de-alegria-en-kulturate-dedicada-al-heroico-pueblo-palestino
END:VEVENT
BEGIN:VEVENT
DTSTART;TZID=Europe/Madrid:20250726T090000
DTEND;TZID=Europe/Madrid:20250726T123000
DTSTAMP:20260421T124721
CREATED:20250721T120614Z
LAST-MODIFIED:20250721T122344Z
UID:4074-1753520400-1753533000@ezker-anitza.org
SUMMARY:Homenaje a los gudaris y milicianos caídos en la Batalla de Kolitza
DESCRIPTION:El sábado 26 de julio tendrá lugar el acto ‘Hitos de la Memoria’. Un homenaje a los gudaris y milicianos caídos en la Batalla de Kolitza. Quedada en la plaza San Severino de Balmaseda a las 9:00 horas.
URL:https://ezker-anitza.org/event/homenaje-a-los-gudaris-y-milicianos-caidos-en-al-batalla-de-kolitza
END:VEVENT
BEGIN:VEVENT
DTSTART;TZID=Europe/Madrid:20250724T200000
DTEND;TZID=Europe/Madrid:20250724T210000
DTSTAMP:20260421T124721
CREATED:20250724T102557Z
LAST-MODIFIED:20250724T102725Z
UID:4098-1753387200-1753390800@ezker-anitza.org
SUMMARY:Movilización feminista en Bilbao 'Escuchen a Daniel'
DESCRIPTION:Te animamos a participar en la movilización feminista que se ha convocado en Bilbao para que se escuche a Daniel ya que un maltratador nunca será un buen padre. 4 de julio a las 20:00 horas\, de la Plaza Moyua a la Plaza Circular.
URL:https://ezker-anitza.org/event/movilizacion-feminista-en-bilbao-escuchen-a-daniel
END:VEVENT
BEGIN:VEVENT
DTSTART;TZID=Europe/Madrid:20250718T190000
DTEND;TZID=Europe/Madrid:20250718T200000
DTSTAMP:20260421T124721
CREATED:20250710T111218Z
LAST-MODIFIED:20250710T111218Z
UID:4058-1752865200-1752868800@ezker-anitza.org
SUMMARY:Concentración contra la impunidad franquista en Vitoria-Gasteiz
DESCRIPTION:El 18 de julio tendrá lugar una concentración en la Catedral Nueva de Vitoria-Gasteiz\, a partir de las 19 horas\, para denunciar la impunidad del franquismo y exigir verdad\, justicia y reparación para las víctimas del golpe de estado fascista contra la República Española. \n \n 
URL:https://ezker-anitza.org/event/concentracion-contra-la-impunidad-franquista-en-vitoria-gasteiz
END:VEVENT
BEGIN:VEVENT
DTSTART;TZID=Europe/Madrid:20250712T093000
DTEND;TZID=Europe/Madrid:20250712T120000
DTSTAMP:20260421T124721
CREATED:20250708T112510Z
LAST-MODIFIED:20250708T113006Z
UID:4047-1752312600-1752321600@ezker-anitza.org
SUMMARY:La artista Carlota Barrenetxea 'Txar' pintará un mural sobre la diversidad en Eskoriatza
DESCRIPTION:Dentro de las actividades sobre la diversidad sexual que han programado Debagoieneko Ezker Kultur Gunea y la Fundación Paz y Solidaridad\, el sábado 12 de julio la artista bilbaína Carlota Barrenetxea ‘Txar’ pintará un mural basado en la pluralidad sexual\, a partir de las 9:30 horas en el edificio Horno de Zubiate. La artista incorporará a su proyecto de mural las aportaciones que hagan las personas asistentes a la proyección del documental ‘Yo Ocaña’ y al posterior coloquio abierto. Txar es una reconocida muralista y artista urbana cuya obra se inspira en la antigua cartelería soviética y en los logotipos y cartelería de carácter industrial.
URL:https://ezker-anitza.org/event/la-artista-txar-pintara-un-mural-sobre-la-diversidad-en-eskoriatza
END:VEVENT
BEGIN:VEVENT
DTSTART;TZID=Europe/Madrid:20250710T190000
DTEND;TZID=Europe/Madrid:20250710T210000
DTSTAMP:20260421T124721
CREATED:20250708T111740Z
LAST-MODIFIED:20250708T112014Z
UID:4042-1752174000-1752181200@ezker-anitza.org
SUMMARY:Proyección del documental 'Yo Ocaña' en Eskoriatza
DESCRIPTION:Debagoieneko Ezker Kultur Gunea y la Fundación Paz y Solidaridad proyectará el 10 de junio  a las 19:00 horas en Zaldibar Antzokia de Eskoriatza el documental ‘Yo Ocaña’ que repasa la vida del pintor José Pérez Ocaña.  Pérez Ocaña utilizaba el travestismo y las performances como traje de presentación. Una vez que concluya la emisión del documental habrá un coloquio abierto para hacer una radiografía de la pluralidad de la sociedad entre las personas participantes. La jornada concluirá una actividad lúdica consistente en un ‘bingo diverso’ para el que se repartirán cartones a la entrada. La persona ganadora se llevará una cesta de productos solidarios. \n 
URL:https://ezker-anitza.org/event/proyeccion-del-documental-yo-ocana-en-eskoriatza
END:VEVENT
BEGIN:VEVENT
DTSTART;TZID=Europe/Madrid:20250626T190000
DTEND;TZID=Europe/Madrid:20250627T200000
DTSTAMP:20260421T124721
CREATED:20250625T101536Z
LAST-MODIFIED:20250625T101536Z
UID:3948-1750964400-1751054400@ezker-anitza.org
SUMMARY:Movilizaciones en las capitales vascas 'Iranen Aurkako Eraso Imperialista Gelditu'
DESCRIPTION:La plataforma Palestinarekin Elkartasuna ha convocado movilizaciones en las tres capitales vascas y en Iruñea para denunciar el ataque imperialista de Israel contra Irán. Serán los días 26 y 27 de junio. Si quieres sumarte\, en la imagen tienes los lugares y horas.
URL:https://ezker-anitza.org/event/movilizaciones-en-las-capitales-vascas-iranen-aurkako-eraso-imperialista-gelditu
END:VEVENT
BEGIN:VEVENT
DTSTART;TZID=Europe/Madrid:20250626T190000
DTEND;TZID=Europe/Madrid:20250626T200000
DTSTAMP:20260421T124721
CREATED:20250625T104151Z
LAST-MODIFIED:20250625T104151Z
UID:3958-1750964400-1750968000@ezker-anitza.org
SUMMARY:El corazón de Bilbao latirá por Gaza
DESCRIPTION:El 26 de junio miles de personas están llamadas a movilizarse por Palestina a las 19:00 horas desde la Plaza de Moyúa de Bilbao\, a las 19:00 horas. La manifestación recorrerá el trayecto entre la plaza de Moyúa y la plaza del Ayuntamiento de Bilbao. \nConvocan: Begirune\, CEAR Euskadi\, CVX Arrupe Elkartea\, Gernika Palestina\, Ongi Etorri Errefuxiatuak\, Pertsonalde y Zehar-Errefuxiatuekin.
URL:https://ezker-anitza.org/event/el-corazon-de-bilbao-latira-por-gaza
END:VEVENT
BEGIN:VEVENT
DTSTART;TZID=Europe/Madrid:20250626T190000
DTEND;TZID=Europe/Madrid:20250626T193000
DTSTAMP:20260421T124721
CREATED:20250625T102924Z
LAST-MODIFIED:20250625T102924Z
UID:3953-1750964400-1750966200@ezker-anitza.org
SUMMARY:Concentración 'El machismo nos mata todos los días'
DESCRIPTION:Como cada último jueves de mes\, el movimiento feminista MDM Euskadi ha convocado una concentración para denunciar los asesinatos machistas. Será el 26 de junio a las 19:00 horas en la Plaza Virgen Blanca de Vitoria-Gasteiz.
URL:https://ezker-anitza.org/event/concentracion-el-machismo-nos-mata-todos-los-dias-5
END:VEVENT
BEGIN:VEVENT
DTSTART;TZID=Europe/Madrid:20250625T180000
DTEND;TZID=Europe/Madrid:20250625T193000
DTSTAMP:20260421T124721
CREATED:20250625T100126Z
LAST-MODIFIED:20250625T100126Z
UID:3943-1750874400-1750879800@ezker-anitza.org
SUMMARY:Encuentro en Donostia: 'Tejiendo utopías populares'
DESCRIPTION:Este 25 de junio tendrá lugar un encuentro con mujeres defensoras y cuidadoras de la vida\, la tierra\, el territorio y la naturaleza. En la Casa de las Mujeres (Okendo kalea\, 9- Donostia)\, de 18:00 a 19:30 horas. \n \n 
URL:https://ezker-anitza.org/event/encuentro-en-donostia-tejiendo-utopias-populares
END:VEVENT
BEGIN:VEVENT
DTSTART;TZID=Europe/Madrid:20250615T120000
DTEND;TZID=Europe/Madrid:20250615T140000
DTSTAMP:20260421T124721
CREATED:20250529T150520Z
LAST-MODIFIED:20250529T150520Z
UID:3832-1749988800-1749996000@ezker-anitza.org
SUMMARY:II Marcha Republicana estatal\, Madrid
DESCRIPTION:El 15 de junio se celebrará en Madrid la II Marcha estatal Republicana. \n12:00h. Plaza de Neptuno hasta Puerta del Sol\, en una jornada festiva y combativa por la paz y la República. \n¡Hasta que se vayan!
URL:https://ezker-anitza.org/event/ii-marcha-republicana-estatal-madrid
END:VEVENT
BEGIN:VEVENT
DTSTART;TZID=Europe/Madrid:20250614T120000
DTEND;TZID=Europe/Madrid:20250614T123000
DTSTAMP:20260421T124721
CREATED:20250526T152739Z
LAST-MODIFIED:20250526T152739Z
UID:3822-1749902400-1749904200@ezker-anitza.org
SUMMARY:Movilización 'Paremos el tren del apartheid'
DESCRIPTION:El proyecto colonialista de Israel busca apropiarse de la tierra y recursos de Palestina y CAF construye el tranvia que facilita dicha ocupación. Mientras en la reunión anual se reparten sus beneficios desde BDZ Euskal Herria hace un llamamiento a la movilización. \nDonostia\, Gipuzkoa plaza\, 14 de Junio\, 12:00 \nParemos el «tren del apartheid»
URL:https://ezker-anitza.org/event/movilizacion-paremos-el-tren-del-apartheid
END:VEVENT
BEGIN:VEVENT
DTSTART;TZID=Europe/Madrid:20250605T190000
DTEND;TZID=Europe/Madrid:20250605T193000
DTSTAMP:20260421T124721
CREATED:20250605T091236Z
LAST-MODIFIED:20250605T091236Z
UID:3852-1749150000-1749151800@ezker-anitza.org
SUMMARY:Manifestación en Bilbao de la plataforma ciudadana de la Línea 4 del Metro
DESCRIPTION:El jueves\, 5 de junio\, la plataforma ciudadana de la Línea 4 del Metro de Bilbao ha convocado a una manifestación a los vecinos y vecinas de los barrios de la zona sur de Bilbao a una manifestación frente al Palacio Foral. A las 19:00 horas.
URL:https://ezker-anitza.org/event/manifestacion-en-bilbao-de-la-plataforma-ciudadana-de-la-linea-4-del-metro
END:VEVENT
BEGIN:VEVENT
DTSTART;TZID=Europe/Madrid:20250605T170000
DTEND;TZID=Europe/Madrid:20250613T203000
DTSTAMP:20260421T124721
CREATED:20250605T092215Z
LAST-MODIFIED:20250605T092215Z
UID:3858-1749142800-1749846600@ezker-anitza.org
SUMMARY:Charlas sobre el papel de la CAF en el limpieza étnica de Jerusalén
DESCRIPTION:El colectivo BDZ ha organizado un ciclo de charlas para informar sobre el papel de la CAF en la limpieza étnica de Jerusalén. En la imagen puede ver los lugares\, días y horas de las distintas charlas.
URL:https://ezker-anitza.org/event/charlas-sobre-el-papel-de-la-caf-en-el-limpieza-etnica-de-jerusalen
END:VEVENT
BEGIN:VEVENT
DTSTART;TZID=Europe/Madrid:20250601T103000
DTEND;TZID=Europe/Madrid:20250601T200000
DTSTAMP:20260421T124721
CREATED:20250529T152126Z
LAST-MODIFIED:20250529T152338Z
UID:3843-1748773800-1748808000@ezker-anitza.org
SUMMARY:Fiesta de la Escuela Pública Vasca en Orduña
DESCRIPTION:El domingo\, 1 de junio\, se celebrará la 32 edición de la Escuela Pública Vasca en la localidad vizcaína de Orduña.  Habrá un montón de actividades y la oportunidad de defender la enseñanza pública\, la de todas y todos.
URL:https://ezker-anitza.org/event/fiesta-de-la-escuela-publica-vasca-en-orduna
END:VEVENT
BEGIN:VEVENT
DTSTART;TZID=Europe/Madrid:20250524T130000
DTEND;TZID=Europe/Madrid:20250524T133000
DTSTAMP:20260421T124721
CREATED:20250507T094344Z
LAST-MODIFIED:20250507T094344Z
UID:3729-1748091600-1748093400@ezker-anitza.org
SUMMARY:Concentración en Donostia contra la incineradora
DESCRIPTION:El 24 de mayo a las 13:00 horas habrá una concentración frente a la Diputación Foral de Gipuzkoa para denunciar los problemas de contaminación que genera la incineradora. \n \n 
URL:https://ezker-anitza.org/event/concentracion-en-donostia-contra-la-incineradora
END:VEVENT
BEGIN:VEVENT
DTSTART;TZID=Europe/Madrid:20250515T180000
DTEND;TZID=Europe/Madrid:20250515T183000
DTSTAMP:20260421T124721
CREATED:20250513T162005Z
LAST-MODIFIED:20250513T162005Z
UID:3770-1747332000-1747333800@ezker-anitza.org
SUMMARY:Homenaje a la comunidad palestina en Arrasate
DESCRIPTION:El jueves\, 15 de mayo\, distintos colectivos van a realizar un acto de homenaje a la comunidad palestina\, que incluye la plantación de un olivo. Comenzará a las 18:00 horas en la campa que está junto al bar Taupa (Arrasate)
URL:https://ezker-anitza.org/event/homenaje-a-la-comunidad-palestina-en-arrasate
END:VEVENT
BEGIN:VEVENT
DTSTART;TZID=Europe/Madrid:20250512T183000
DTEND;TZID=Europe/Madrid:20250514T203000
DTSTAMP:20260421T124721
CREATED:20250507T095105Z
LAST-MODIFIED:20250507T095105Z
UID:3735-1747074600-1747254600@ezker-anitza.org
SUMMARY:Ciclo de documentales sobre Cuba
DESCRIPTION:Los días 12\, 13 y 14 de mayo se proyectará en Bilbao un interesante ciclo de de documentales sobre Cuba que incluyen una charla tras la proyección. Tendrán lugar en Zirika a partir de las 18:30 horas (calle Ronda\, 12). Tienes más detalles en el cartel.
URL:https://ezker-anitza.org/event/ciclo-de-documentales-sobre-cuba
END:VEVENT
BEGIN:VEVENT
DTSTART;TZID=Europe/Madrid:20250510T120000
DTEND;TZID=Europe/Madrid:20250510T143000
DTSTAMP:20260421T124721
CREATED:20250501T082843Z
LAST-MODIFIED:20250501T082843Z
UID:3724-1746878400-1746887400@ezker-anitza.org
SUMMARY:Muévete por Palestina
DESCRIPTION:Muévete por Palestina. Manifestación en Madrid por la descolonización y el apoyo al retorno. Fin al comercio de las armas y a las relaciones con Israel. \nEl 10 de mayo todas y todos a Madrid. Atocha-Sol\, 12:00 horas
URL:https://ezker-anitza.org/event/muevete-por-palestina
END:VEVENT
BEGIN:VEVENT
DTSTART;TZID=Europe/Madrid:20250501T110000
DTEND;TZID=Europe/Madrid:20250501T150000
DTSTAMP:20260421T124721
CREATED:20250501T081300Z
LAST-MODIFIED:20250501T082413Z
UID:3719-1746097200-1746111600@ezker-anitza.org
SUMMARY:1 de Mayo.Manifestaciones
DESCRIPTION:Este Primero de Mayo\, Día de la Persona Trabajadora\, Ezker Anitza-IU saldrá de nuevo a las calles a defender la paz y a la clase trabajadora. \nPuntos de quedada de las manifestaciones: \nBilbao: 11:15h. en el Sagrado Corazón junto a Viajes Ecuador. \nDonostia: 11:45 h. en el reloj del Boulevard. \nVitoria-Gasteiz: 12:00 en la Virgen Blanca. \n 
URL:https://ezker-anitza.org/event/1-de-mayo-manifestaciones
END:VEVENT
BEGIN:VEVENT
DTSTART;TZID=Europe/Madrid:20250426T103000
DTEND;TZID=Europe/Madrid:20250426T150000
DTSTAMP:20260421T124721
CREATED:20250415T093618Z
LAST-MODIFIED:20250415T093618Z
UID:3637-1745663400-1745679600@ezker-anitza.org
SUMMARY:Marcha ciclista en contra del negocio de la guerra y las armas
DESCRIPTION:El 26 de abril habrá un marcha ciclista de Bilbao a Getxo organizada  por los colectivos Palestina Askatu\, Kakitzat\, Komité Internazionalistak\, Ekologistak Martxan\, Eguzki \, Biziz Bizi para denunciar el negocio de la guerra y de las armas. Saldrá a las 10:30 horas de la Diputación Foral de Bizkaia.
URL:https://ezker-anitza.org/event/marcha-ciclista-en-contra-del-negocio-de-la-guerra-y-las-armas
END:VEVENT
BEGIN:VEVENT
DTSTART;TZID=Europe/Madrid:20250424T190000
DTEND;TZID=Europe/Madrid:20250424T193000
DTSTAMP:20260421T124721
CREATED:20250422T114250Z
LAST-MODIFIED:20250422T114250Z
UID:3663-1745521200-1745523000@ezker-anitza.org
SUMMARY:Concentración en Vitoria- El machismo nos mata
DESCRIPTION:Como cada último jueves de mes el movimiento MDM Euskadi se concentrará en la Plaza Virgen Blanca de Vitoria-Gasteiz para denunciar la violencia machista. A partir de las 19:00 horas. Te animamos a participar.
URL:https://ezker-anitza.org/event/concentracion-en-vitoria-el-machismo-nos-mata
END:VEVENT
END:VCALENDAR