BEGIN:VCALENDAR
VERSION:2.0
PRODID:-//Ezker Anitza - ECPv6.15.17.1//NONSGML v1.0//EN
CALSCALE:GREGORIAN
METHOD:PUBLISH
X-ORIGINAL-URL:https://ezker-anitza.org
X-WR-CALDESC:Eventos para Ezker Anitza
REFRESH-INTERVAL;VALUE=DURATION:PT1H
X-Robots-Tag:noindex
X-PUBLISHED-TTL:PT1H
BEGIN:VTIMEZONE
TZID:Europe/Madrid
BEGIN:DAYLIGHT
TZOFFSETFROM:+0100
TZOFFSETTO:+0200
TZNAME:CEST
DTSTART:20250330T010000
END:DAYLIGHT
BEGIN:STANDARD
TZOFFSETFROM:+0200
TZOFFSETTO:+0100
TZNAME:CET
DTSTART:20251026T010000
END:STANDARD
BEGIN:DAYLIGHT
TZOFFSETFROM:+0100
TZOFFSETTO:+0200
TZNAME:CEST
DTSTART:20260329T010000
END:DAYLIGHT
BEGIN:STANDARD
TZOFFSETFROM:+0200
TZOFFSETTO:+0100
TZNAME:CET
DTSTART:20261025T010000
END:STANDARD
BEGIN:DAYLIGHT
TZOFFSETFROM:+0100
TZOFFSETTO:+0200
TZNAME:CEST
DTSTART:20270328T010000
END:DAYLIGHT
BEGIN:STANDARD
TZOFFSETFROM:+0200
TZOFFSETTO:+0100
TZNAME:CET
DTSTART:20271031T010000
END:STANDARD
END:VTIMEZONE
BEGIN:VEVENT
DTSTART;TZID=Europe/Madrid:20260412T110000
DTEND;TZID=Europe/Madrid:20260412T123000
DTSTAMP:20260421T070807
CREATED:20260408T123256Z
LAST-MODIFIED:20260408T123256Z
UID:4991-1775991600-1775997000@ezker-anitza.org
SUMMARY:Acto de homenaje a la II República (Eibar)
DESCRIPTION:El domingo\, 12 de abril\, Ezker Anitza-IU y el PCE-EPK realizarán un acto de homenaje a la segunda         II República. Plaza Untzaga de Eibar a partir de las 11:00h. Anímate y acude con tu bandera republicana.
URL:https://ezker-anitza.org/event/acto-de-homenaje-a-la-ii-republica-eibar
END:VEVENT
END:VCALENDAR