BEGIN:VCALENDAR
VERSION:2.0
PRODID:-//Ezker Anitza - ECPv6.15.17.1//NONSGML v1.0//EN
CALSCALE:GREGORIAN
METHOD:PUBLISH
X-ORIGINAL-URL:https://ezker-anitza.org/eu
X-WR-CALDESC:Events for Ezker Anitza
REFRESH-INTERVAL;VALUE=DURATION:PT1H
X-Robots-Tag:noindex
X-PUBLISHED-TTL:PT1H
BEGIN:VTIMEZONE
TZID:Europe/Madrid
BEGIN:DAYLIGHT
TZOFFSETFROM:+0100
TZOFFSETTO:+0200
TZNAME:CEST
DTSTART:20240331T010000
END:DAYLIGHT
BEGIN:STANDARD
TZOFFSETFROM:+0200
TZOFFSETTO:+0100
TZNAME:CET
DTSTART:20241027T010000
END:STANDARD
BEGIN:DAYLIGHT
TZOFFSETFROM:+0100
TZOFFSETTO:+0200
TZNAME:CEST
DTSTART:20250330T010000
END:DAYLIGHT
BEGIN:STANDARD
TZOFFSETFROM:+0200
TZOFFSETTO:+0100
TZNAME:CET
DTSTART:20251026T010000
END:STANDARD
BEGIN:DAYLIGHT
TZOFFSETFROM:+0100
TZOFFSETTO:+0200
TZNAME:CEST
DTSTART:20260329T010000
END:DAYLIGHT
BEGIN:STANDARD
TZOFFSETFROM:+0200
TZOFFSETTO:+0100
TZNAME:CET
DTSTART:20261025T010000
END:STANDARD
END:VTIMEZONE
BEGIN:VEVENT
DTSTART;TZID=Europe/Madrid:20250712T093000
DTEND;TZID=Europe/Madrid:20250712T120000
DTSTAMP:20260421T141023
CREATED:20250708T112510Z
LAST-MODIFIED:20250708T112510Z
UID:4050-1752312600-1752321600@ezker-anitza.org
SUMMARY:Carlota Barrenetxea 'Txar' artistak aniztasunari buruzko horma-irudia margotuko du Eskoriatzan
DESCRIPTION:Debagoieneko Ezker Kultur Guneak eta Bakea eta Elkartasuna Fundazioak sexu aniztasunari buruz antolatu dituzten jardueren artean\, uztailaren 12an\, larunbata\, Carlota Barrenetxea ‘Txar’ artista bilbotarrak aniztasun sexualean oinarritutako mural bat margotuko du 9:30etatik aurrera Zubiateko Labea eraikinean. Artistak ‘Yo Ocaña’ dokumentalaren proiekziora eta ondorengo solasaldi irekira bertaratutakoek egindako ekarpenak gehituko dizkio bere horma-irudi proiektuari. Txar muralista eta hiri-artista ezaguna da\, eta bere lanak antzinako sobietar karteletan eta izaera industrialeko logotipo eta karteletan oinarritzen dira.
URL:https://ezker-anitza.org/eu/event/carlota-barrenetxea-txar-artistak-aniztasunari-buruzko-horma-irudia-margotuko-du-eskoriatzan
END:VEVENT
BEGIN:VEVENT
DTSTART;TZID=Europe/Madrid:20250710T190000
DTEND;TZID=Europe/Madrid:20250710T210000
DTSTAMP:20260421T141023
CREATED:20250708T111740Z
LAST-MODIFIED:20250708T111957Z
UID:4044-1752174000-1752181200@ezker-anitza.org
SUMMARY:Yo Ocaña' dokumentalaren proiekzioa Eskoriatzan
DESCRIPTION:Debagoieneko Ezker Kultur Guneak eta Paz y Solidaridad Fundazioak José Pérez Ocaña margolariaren bizitzaren errepasoa egiten duen ‘Yo Ocaña’ dokumentala proiektatuko dute ekainaren 10ean\, 19:00etan\, Eskoriatzako Zaldibar Antzokian. Perez Ocañak trabestismoa eta performanceak erabiltzen zituen aurkezpen jantzi gisa. Dokumentala eman ondoren\, solasaldi ireki bat egingo da\, parte hartzen duten pertsonen artean gizartearen aniztasunaren erradiografia bat egiteko. Jardunaldiari amaiera emateko\, ‘askotariko bingoa’ egingo da eta kartoiak banatuko dira sarreran. Irabazleak produktu solidarioen saski bat jasoko du.     \n 
URL:https://ezker-anitza.org/eu/event/yo-ocana-dokumentalaren-proiekzioa-eskoriatzan
END:VEVENT
BEGIN:VEVENT
DTSTART;TZID=Europe/Madrid:20250626T190000
DTEND;TZID=Europe/Madrid:20250627T200000
DTSTAMP:20260421T141023
CREATED:20250625T101536Z
LAST-MODIFIED:20250625T101536Z
UID:3952-1750964400-1751054400@ezker-anitza.org
SUMMARY:Mobilizazioak euskal hiriburuetan 'Iranen Aurkako Eraso Inperialista Gelditu'
DESCRIPTION:Palestinarekin Elkartasuna plataformak mobilizazioak deitu ditu EAEko hiru hiriburuetan eta Iruñean\, Israelek Iranen aurka egindako eraso inperialista salatzeko. Ekainaren 26an eta 27an izango dira. Bat egin nahi baduzu\, irudian dituzu lekuak eta orduak.
URL:https://ezker-anitza.org/eu/event/mobilizazioak-euskal-hiriburuetan-iranen-aurkako-eraso-inperialista-gelditu
END:VEVENT
BEGIN:VEVENT
DTSTART;TZID=Europe/Madrid:20250626T190000
DTEND;TZID=Europe/Madrid:20250626T200000
DTSTAMP:20260421T141023
CREATED:20250625T104151Z
LAST-MODIFIED:20250625T104151Z
UID:3962-1750964400-1750968000@ezker-anitza.org
SUMMARY:Bilboko bihotzak taupada egingo du Gazaren alde
DESCRIPTION:Ekainaren 26an milaka lagun daude deituta Palestinaren alde mobilizatzera\, 19:00etan Bilboko Moyua plazatik abiatuta. Manifestazioak Moyua plazatik Bilboko Udaletxe plazara arteko bidea egingo du.  \nDeitzaileak: Begirune\, CEAR Euskadi\, CVX Arrupe Elkartea\, Gernika Palestina\, Ongi Etorri Errefuxiatuak\, Pertsonalde eta Zeharkako Errefuxiatuak.
URL:https://ezker-anitza.org/eu/event/bilboko-bihotzak-taupada-egingo-du-gazaren-alde
END:VEVENT
BEGIN:VEVENT
DTSTART;TZID=Europe/Madrid:20250626T190000
DTEND;TZID=Europe/Madrid:20250626T193000
DTSTAMP:20260421T141023
CREATED:20250625T102924Z
LAST-MODIFIED:20250625T102924Z
UID:3957-1750964400-1750966200@ezker-anitza.org
SUMMARY:Elkarretaratzea 'Matxismoak egunero hiltzen gaitu'
DESCRIPTION:Hileko azken ostegunero bezala\, MDM Euskadi mugimendu feministak elkarretaratzea deitu du hilketa matxistak salatzeko. Ekainaren 26an izango da\, 19:00etan\, Gasteizko Andra Mari Zuriaren plazan.
URL:https://ezker-anitza.org/eu/event/elkarretaratzea-matxismoak-egunero-hiltzen-gaitu-5
END:VEVENT
BEGIN:VEVENT
DTSTART;TZID=Europe/Madrid:20250625T180000
DTEND;TZID=Europe/Madrid:20250625T193000
DTSTAMP:20260421T141023
CREATED:20250625T100126Z
LAST-MODIFIED:20250625T100126Z
UID:3947-1750874400-1750879800@ezker-anitza.org
SUMMARY:Topaketa Donostian: 'Herri utopiak ehuntzen'
DESCRIPTION:Bizitza\, lurra\, lurraldea eta natura defendatzen eta zaintzen duten emakumeekin topaketa izango da ekainaren 25 honetan. Emakumeen Etxean (Okendo kalea\, 9- Donostia)\, 18:00etatik 19:30era.  \n \n 
URL:https://ezker-anitza.org/eu/event/topaketa-donostian-herri-utopiak-ehuntzen
END:VEVENT
BEGIN:VEVENT
DTSTART;TZID=Europe/Madrid:20250615T120000
DTEND;TZID=Europe/Madrid:20250615T140000
DTSTAMP:20260421T141023
CREATED:20250529T153402Z
LAST-MODIFIED:20250529T153402Z
UID:3846-1749988800-1749996000@ezker-anitza.org
SUMMARY:II. Martxa Errepublikarra Madrilen
DESCRIPTION:Ekainaren 15ean II. Martxa Errepublikarra egingo da Madrilen.  \n12:00etan Neptuno plaza Puerta del Soleraino\, bakearen eta Errepublikaren aldeko festa eta borroka egun batean.
URL:https://ezker-anitza.org/eu/event/ii-martxa-errepublikarra-madrilen
END:VEVENT
BEGIN:VEVENT
DTSTART;TZID=Europe/Madrid:20250614T120000
DTEND;TZID=Europe/Madrid:20250614T123000
DTSTAMP:20260421T141023
CREATED:20250526T152739Z
LAST-MODIFIED:20250526T152739Z
UID:3824-1749902400-1749904200@ezker-anitza.org
SUMMARY:Apartheid trena gelditu dezagun mobilizazioa
DESCRIPTION:Israelgo proiektu kolonialistak Palestinako lurra eta baliabideak bereganatzea du helburu eta CAF euskal enpresa okupazio hori errazten duen tranbia eraikitzen ari da. Urteko batzarrean etekinak banatzen dituzten bitartean BDZ Euskal Herritik mobilizaziorako deia egiten dugu.  \nDonostiako Gipuzkoa plazatik\, ekainaren 14an\, 12:00etan. \n“Apartheidaren trena” gelditu dezagun!
URL:https://ezker-anitza.org/eu/event/apartheid-trena-gelditu-dezagun-mobilizazioa
END:VEVENT
BEGIN:VEVENT
DTSTART;TZID=Europe/Madrid:20250605T190000
DTEND;TZID=Europe/Madrid:20250605T193000
DTSTAMP:20260421T141023
CREATED:20250605T091236Z
LAST-MODIFIED:20250605T091508Z
UID:3856-1749150000-1749151800@ezker-anitza.org
SUMMARY:Metroaren 4. lineako herritarren plataformaren manifestazioa Bilbon
DESCRIPTION:Ostegunean\, ekainak 5\, Bilboko Metroaren 4. lineako herritarren plataformak manifestazio batera deitu ditu Bilboko hegoaldeko auzoetako bizilagunak\, Foru Jauregiaren aurrean. 19:00etan.
URL:https://ezker-anitza.org/eu/event/metroaren-4-lineako-herritarren-plataformaren-manifestazioa-bilbon
END:VEVENT
BEGIN:VEVENT
DTSTART;TZID=Europe/Madrid:20250605T170000
DTEND;TZID=Europe/Madrid:20250613T203000
DTSTAMP:20260421T141023
CREATED:20250605T092215Z
LAST-MODIFIED:20250605T092215Z
UID:3862-1749142800-1749846600@ezker-anitza.org
SUMMARY:CAFek Jerusalemgo garbiketa etnikoan duen paperari buruzko hitzaldiak
DESCRIPTION:BDZ kolektiboak hitzaldi ziklo bat antolatu du CAFek Jerusalemgo garbiketa etnikoan duen zereginari buruz informatzeko. Irudian\, hitzaldien lekuak\, egunak eta orduak ikus ditzakezu.
URL:https://ezker-anitza.org/eu/event/cafek-jerusalemgo-garbiketa-etnikoan-duen-paperari-buruzko-hitzaldiak
END:VEVENT
BEGIN:VEVENT
DTSTART;TZID=Europe/Madrid:20250601T103000
DTEND;TZID=Europe/Madrid:20250601T200000
DTSTAMP:20260421T141023
CREATED:20250529T152126Z
LAST-MODIFIED:20250529T152126Z
UID:3845-1748773800-1748808000@ezker-anitza.org
SUMMARY:Euskal Eskola Publikoaren jaia Urduñan
DESCRIPTION:Igandean\, ekainak 1\, Euskal Eskola Publikoaren 32. edizioa ospatuko da Urduñan (Bizkaia). Jarduera mordoa egongo da eta irakaskuntza publikoa\, guztiona\, defendatzeko aukera.
URL:https://ezker-anitza.org/eu/event/euskal-eskola-publikoaren-jaia-urdunan
END:VEVENT
BEGIN:VEVENT
DTSTART;TZID=Europe/Madrid:20250524T130000
DTEND;TZID=Europe/Madrid:20250524T133000
DTSTAMP:20260421T141023
CREATED:20250507T094344Z
LAST-MODIFIED:20250513T163927Z
UID:3733-1748091600-1748093400@ezker-anitza.org
SUMMARY:Erraustegiaren aurkako elkarretaratzea Donostian
DESCRIPTION:Maiatzaren 24an\, 13:00etan\, elkarretaratzea izango da Gipuzkoako Foru Aldundiaren aurrean\, erraustegiak sortzen dituen kutsadura arazoak salatzeko. \n \n 
URL:https://ezker-anitza.org/eu/event/erraustegiaren-aurkako-elkarretaratzea-donostian
END:VEVENT
BEGIN:VEVENT
DTSTART;TZID=Europe/Madrid:20250515T180000
DTEND;TZID=Europe/Madrid:20250515T183000
DTSTAMP:20260421T141023
CREATED:20250513T162005Z
LAST-MODIFIED:20250513T162005Z
UID:3776-1747332000-1747333800@ezker-anitza.org
SUMMARY:Palestinar komunitateari omenaldia Arrasaten
DESCRIPTION:Maiatzaren 15ean\, osteguna\, hainbat kolektibok omenaldia egingo diote komunitate palestinarrari\, olibondo bat landatzea barne. 18:00etan hasiko da Taupa tabernaren ondoan dagoen zelaian (Arrasate)
URL:https://ezker-anitza.org/eu/event/palestinar-komunitateari-omenaldia-arrasaten
END:VEVENT
BEGIN:VEVENT
DTSTART;TZID=Europe/Madrid:20250512T183000
DTEND;TZID=Europe/Madrid:20250514T203000
DTSTAMP:20260421T141023
CREATED:20250507T095105Z
LAST-MODIFIED:20250507T095337Z
UID:3739-1747074600-1747254600@ezker-anitza.org
SUMMARY:Kubari buruzko dokumental zikloa
DESCRIPTION:Maiatzaren 12\, 13 eta 14an Kubari buruzko dokumental ziklo interesgarria proiektatuko da Bilbon\, eta proiekzioaren ondoren hitzaldi bat eskainiko da. Zirikan izango dira\, 18:30etik aurrera (Erronda kalea\, 12). Kartelean dituzu xehetasun gehiago.
URL:https://ezker-anitza.org/eu/event/kubari-buruzko-dokumental-zikloa
END:VEVENT
BEGIN:VEVENT
DTSTART;TZID=Europe/Madrid:20250510T120000
DTEND;TZID=Europe/Madrid:20250510T143000
DTSTAMP:20260421T141023
CREATED:20250501T082843Z
LAST-MODIFIED:20250501T082843Z
UID:3728-1746878400-1746887400@ezker-anitza.org
SUMMARY:Mugitu Palestinaren alde
DESCRIPTION:Mugitu Palestinaren alde. Deskolonizazioaren eta itzuleraren aldeko manifestazioa Madrilen. Armen salerosketaren eta Israelekiko harremanen amaiera.   \nMaiatzaren 10ean denok Madrilera. Atocha-Sol\, 12:00etan
URL:https://ezker-anitza.org/eu/event/mugitu-palestinaren-alde
END:VEVENT
BEGIN:VEVENT
DTSTART;TZID=Europe/Madrid:20250501T110000
DTEND;TZID=Europe/Madrid:20250501T150000
DTSTAMP:20260421T141023
CREATED:20250501T081300Z
LAST-MODIFIED:20250501T081300Z
UID:3723-1746097200-1746111600@ezker-anitza.org
SUMMARY:Maiatzaren Lehena. Manifestazioak
DESCRIPTION:Maiatzaren Lehenean\, Langilearen Egunean\, Ezker Anitza-IU berriro aterako da kalera bakea eta langile klasea defendatzera. \nManifestazioen geralekuak: \nBilbo: 11:15ean. Jesusen Bihotzean\, Viajes Ecuadorren ondoan.  \nDonostia: 11:45ean Bulebarreko erlojuan.  \nGasteiz: 12:00etan Andra Mari Zurian. \n 
URL:https://ezker-anitza.org/eu/event/maiatzaren-lehena-manifestazioak
END:VEVENT
BEGIN:VEVENT
DTSTART;TZID=Europe/Madrid:20250426T103000
DTEND;TZID=Europe/Madrid:20250426T150000
DTSTAMP:20260421T141023
CREATED:20250415T093618Z
LAST-MODIFIED:20250415T094627Z
UID:3639-1745663400-1745679600@ezker-anitza.org
SUMMARY:Armagintza eta gerraren negozioaren bizikleta martxa
DESCRIPTION:Apirilaren 26an Bilbotik Getxora bizikleta martxa egingo da Palestina Askatu\, Kakitzat\, Komité Internazionalistak\, Ekologistak Martxan\, Eguzki \, Biziz Bizi taldeek antolatuta\, gerraren eta armen negozioa salatzeko. 10:30ean irtengo da Bizkaiko Foru Aldunditik.
URL:https://ezker-anitza.org/eu/event/armagintza-eta-gerraren-negozioaren-bizi-martxa
END:VEVENT
BEGIN:VEVENT
DTSTART;TZID=Europe/Madrid:20250424T190000
DTEND;TZID=Europe/Madrid:20250424T193000
DTSTAMP:20260421T141023
CREATED:20250422T114250Z
LAST-MODIFIED:20250422T114623Z
UID:3667-1745521200-1745523000@ezker-anitza.org
SUMMARY:Elkarretaratzea Gasteizen- Matxismoa egunero hiltzen gaitu
DESCRIPTION:Hileko azken ostegunero bezala\, MDM Euskadi mugimenduak elkarretaratzea egingo du Gasteizko Andre Maria Zuriaren plazan\, indarkeria matxista salatzeko. 19:00etatik aurrera. Parte hartzera animatzen zaitugu.
URL:https://ezker-anitza.org/eu/event/elkarretaratzea-gasteizen-matxismoa-egunero-hiltzen-gaitu
END:VEVENT
BEGIN:VEVENT
DTSTART;TZID=Europe/Madrid:20250414T183000
DTEND;TZID=Europe/Madrid:20250414T193000
DTSTAMP:20260421T141023
CREATED:20250403T095402Z
LAST-MODIFIED:20250403T095402Z
UID:3578-1744655400-1744659000@ezker-anitza.org
SUMMARY:Ekitaldi errepublikarra Arrasaten
DESCRIPTION:Apirilaren 14an Ezker Anitza-IUk eta EPK-k ekitaldi errepublikarra egingo dute Arrasaten. 18:30ean hasiko da\, bandera errepublikarra altxatzearekin batera. Ondoren\, Errepublikaren aldeko brindisa izango da. Ekitaldia Ezker Anitza-IUren egoitzan izango da (Aldai kalea\, 9-Arrasate).
URL:https://ezker-anitza.org/eu/event/ekitaldi-errepublikarra-arrasaten
END:VEVENT
BEGIN:VEVENT
DTSTART;TZID=Europe/Madrid:20250412T110000
DTEND;TZID=Europe/Madrid:20250412T120000
DTSTAMP:20260421T141023
CREATED:20250325T162314Z
LAST-MODIFIED:20250325T162314Z
UID:3547-1744455600-1744459200@ezker-anitza.org
SUMMARY:Errepublikaren Eguneko ekitaldia Eibarren
DESCRIPTION:Aurten ere Ezker Anitza-IUk Hirugarren Errepublika aldarrikatuko du ekitaldi politiko batekin eta bandera errepublikarra igoz. Ospakizuna apirilaren 12an izango da\, 11:00etan\, Txaltxa Zelaiko Tenpletean\, Eibarko Udaletxeko Plazaren ondoan.  \nAurretik\, 10:00etan\, PCE-EPKk antolatutako martxa errepublikarra hasiko da Ermuko Orbe Kardinalaren plazatik Eibarrera.
URL:https://ezker-anitza.org/eu/event/errepublikaren-eguneko-ekitaldia-eibarren
END:VEVENT
BEGIN:VEVENT
DTSTART;TZID=Europe/Madrid:20250409T183000
DTEND;TZID=Europe/Madrid:20250409T200000
DTSTAMP:20260421T141023
CREATED:20250325T163354Z
LAST-MODIFIED:20250325T163354Z
UID:3556-1744223400-1744228800@ezker-anitza.org
SUMMARY:'El malestar de las ciudades' liburuaren aurkezpena Bilbon
DESCRIPTION:Apirilaren 9an ‘El malestar de las ciudades’ liburuaren aurkezpena egingo da Bilbon\, Ezker Anitza-IUk antolatutako ekitaldi batean. Jorge Dioni López idazleak hartuko du parte ekitaldian. Aurkezpena Bilboko Hitz and Hitz aretoan izango da (Ibeni kaia\, 1) 18:30etatik aurrera.  Sarrera librea da lekua bete arte. \n \n 
URL:https://ezker-anitza.org/eu/event/el-malestar-de-las-ciudades-liburuaren-aurkezpena-bilbon
END:VEVENT
BEGIN:VEVENT
DTSTART;TZID=Europe/Madrid:20250404T180000
DTEND;TZID=Europe/Madrid:20250404T193000
DTSTAMP:20260421T141023
CREATED:20250311T155103Z
LAST-MODIFIED:20250318T124307Z
UID:3497-1743789600-1743795000@ezker-anitza.org
SUMMARY:`Del arrebol a las tinieblas 'liburuaren aurkezpena Gasteizen
DESCRIPTION:Apirilaren 4an\, ostirala\, 18:00etan\, José Álvarez Gutierrez-en ‘Del arrebol a las tinieblas’ liburuaren aurkezpena izango da. Ekitaldia Landazuri Bizan herrian izango da (J.Landazuri kalea\, 17\, Vitoria Gasteiz. sarrera librea izango da aretoaren edukiera bete arte.
URL:https://ezker-anitza.org/eu/event/del-arrebol-a-las-tinieblas-liburuaren-aurkezpena-gasteizen
END:VEVENT
BEGIN:VEVENT
DTSTART;TZID=Europe/Madrid:20250330T120000
DTEND;TZID=Europe/Madrid:20250330T123000
DTSTAMP:20260421T141023
CREATED:20250318T122741Z
LAST-MODIFIED:20250318T122741Z
UID:3528-1743336000-1743337800@ezker-anitza.org
SUMMARY:Palestinar Lurraren Eguna
DESCRIPTION:Martxoaren 30ean\, Palestinar Lurraren Eguna dela eta\, hurrengo elkarretaratzeak deitu dira. Bilbo (Arriaga plaza\, 12:00); Donostia (Boulebarrean\, 12:00); Gasteiz (Eusko Legebiltzarraren aurrean\, 12:00).
URL:https://ezker-anitza.org/eu/event/palestinar-lurraren-eguna
END:VEVENT
BEGIN:VEVENT
DTSTART;TZID=Europe/Madrid:20250329T100000
DTEND;TZID=Europe/Madrid:20250329T140000
DTSTAMP:20260421T141023
CREATED:20250325T161240Z
LAST-MODIFIED:20250325T161240Z
UID:3544-1743242400-1743256800@ezker-anitza.org
SUMMARY:Gure Lurreko Merkatua Sopelan
DESCRIPTION:Martxoaren 29an\, larunbata\, Sopelako Udaleko Toki Garapen Sailak tokiko ekoizleen merkatua antolatu du\, herritarrek Sopela eta Uribe Kostako baserrietako baserritarrak ezagut ditzaten. 10:00etatik 14:00etara\, Urgitxieta plazan. Taloak eta animazioa egongo dira
URL:https://ezker-anitza.org/eu/event/gure-lurreko-merkatua-sopelan
END:VEVENT
BEGIN:VEVENT
DTSTART;TZID=Europe/Madrid:20250323T113000
DTEND;TZID=Europe/Madrid:20250323T130000
DTSTAMP:20260421T141023
CREATED:20250318T124040Z
LAST-MODIFIED:20250318T125905Z
UID:3535-1742729400-1742734800@ezker-anitza.org
SUMMARY:Arrazakeria eta Xenofobiaren Aurkako Martxaren 18. edizioa
DESCRIPTION:‘Auzo seguren alde ‘lelopean\, martxoaren 23an\, Arrazakeriaren eta Xenofobiaren Aurkako 18. Martxa egingo da\, eta Ezker Anitza-IUk parte hartuko du. Trintxerpeko azoka (11:30ean\, eta Donostiako Alderdi Ederreko lorategiak\, 13:00etan)
URL:https://ezker-anitza.org/eu/event/errakismoaren-eta-xenofobiaren-aurkako-martxaren-18-edizioa
END:VEVENT
BEGIN:VEVENT
DTSTART;TZID=Europe/Madrid:20250321T183000
DTEND;TZID=Europe/Madrid:20250321T203000
DTSTAMP:20260421T141023
CREATED:20250318T121045Z
LAST-MODIFIED:20250318T121045Z
UID:3523-1742581800-1742589000@ezker-anitza.org
SUMMARY:Errealitate birtualeko abentura Arrasaten
DESCRIPTION:Debagoieneko Ezker Kultur Guneak ‘Balio-kate globalak. Errealitate birtualeko abentura’ martxoaren 21ean\, ostirala\, 18:30ean\, Aldai kaleko 9. zenbakiko beheko lokalean. Balio kate globalak zer diren\, globalizazioan duten garrantzia\, lan eskubideetan duten eragina eta kontsumitzen ditugun produktuetan duten inplikazioa gerturatzea da helburua.  \nJarduerak bi ordu irauten du\, eta errealitate birtualeko bi betaurreko erabiltzen ditu produktu batek fabrikatzen denetik kontsumitzaileengana iristen den arte egiten duen ibilbidea simulatzeko.
URL:https://ezker-anitza.org/eu/event/errealitate-birtualeko-abentura-arrasaten
END:VEVENT
BEGIN:VEVENT
DTSTART;TZID=Europe/Madrid:20250308T123000
DTEND;TZID=Europe/Madrid:20250308T200000
DTSTAMP:20260421T141023
CREATED:20250306T123356Z
LAST-MODIFIED:20250307T085347Z
UID:3469-1741437000-1741464000@ezker-anitza.org
SUMMARY:M8 2025 manifestazioak
DESCRIPTION:Larunbatean\, 2025eko martxoaren 8an\, Emakumeen Nazioarteko Eguna ospatuko da. Mugimendu feministak honako manifestazio hauek deitu ditu hiru euskal hiriburuetan:  \nDonostia: 12:30 Antiguako tuneletik.\nGasteiz: 12:30 San Anton plazatik abiatuta.\nBilbo: 18:00 Jesusen Bihotza plazatik abiatuta. \nBloke abolizionistan parte hartu nahi baduzu\, kartelean geratzen diren puntuak eta ordua agertzen dira.
URL:https://ezker-anitza.org/eu/event/m8-2025-manifestazioak
END:VEVENT
BEGIN:VEVENT
DTSTART;TZID=Europe/Madrid:20250306T190000
DTEND;TZID=Europe/Madrid:20250306T203000
DTSTAMP:20260421T141023
CREATED:20250306T122625Z
LAST-MODIFIED:20250306T122625Z
UID:3463-1741287600-1741293000@ezker-anitza.org
SUMMARY:Bideoforuma 'Kamarada' Arrasaten
DESCRIPTION:Martxoaren 6an\, Debagoieneko Ezker Kultur Gunean (Aldai kalea\, 9- behea) bideoforuma izango da ‘Kamarada’ filmaren proiekzioarekin. 19:00etan hasiko da. Sarrera librea da lekua bete arte.
URL:https://ezker-anitza.org/eu/event/bideoforuma-kamarada-arrasaten
END:VEVENT
BEGIN:VEVENT
DTSTART;TZID=Europe/Madrid:20250306T183000
DTEND;TZID=Europe/Madrid:20250306T200000
DTSTAMP:20260421T141024
CREATED:20250226T122700Z
LAST-MODIFIED:20250226T123959Z
UID:3421-1741285800-1741291200@ezker-anitza.org
SUMMARY:Hitzaldia Barakaldon. Zergatik ez markatu laukirik errenta aitorpenean?
DESCRIPTION:Datorren martxoaren 6an\, 18:30ean\, Ezker Anitza-IUk eta Europa Laikoak hitzaldi bat antolatu dute Barakaldoko Clara Campoamor Kultur Etxean\, Juanjo Picó Europa Laikoko presidente ohiarekin. Sarrera librea da lekua bete arte. \n \n 
URL:https://ezker-anitza.org/eu/event/hitzaldia-barakaldon-zergatik-ez-markatu-laukirik-errenta-aitorpenean
END:VEVENT
BEGIN:VEVENT
DTSTART;TZID=Europe/Madrid:20250305T183000
DTEND;TZID=Europe/Madrid:20250305T200000
DTSTAMP:20260421T141024
CREATED:20250226T123817Z
LAST-MODIFIED:20250226T123817Z
UID:3427-1741199400-1741204800@ezker-anitza.org
SUMMARY:'Ética laica pensar lo común' liburuaren aurkezpena
DESCRIPTION:Martxoaren 5ean ‘Ética laica pensar en lo común’ liburuaren aurkezpena egingo da. Juanjo Picó Europa Laicako presidente ohiak hartuko du parte. Aurkezpena Gasteizko Ignacio Aldecoa kultur etxean izango da 18:30etatik aurrera. Sarrera librea izango da lekua bete arte.    \n \n 
URL:https://ezker-anitza.org/eu/event/etica-laica-pensar-lo-comun-liburuaren-aurkezpena
END:VEVENT
END:VCALENDAR