BEGIN:VCALENDAR
VERSION:2.0
PRODID:-//Ezker Anitza - ECPv6.15.17.1//NONSGML v1.0//EN
CALSCALE:GREGORIAN
METHOD:PUBLISH
X-WR-CALNAME:Ezker Anitza
X-ORIGINAL-URL:https://ezker-anitza.org/eu
X-WR-CALDESC:Events for Ezker Anitza
REFRESH-INTERVAL;VALUE=DURATION:PT1H
X-Robots-Tag:noindex
X-PUBLISHED-TTL:PT1H
BEGIN:VTIMEZONE
TZID:Europe/Madrid
BEGIN:DAYLIGHT
TZOFFSETFROM:+0100
TZOFFSETTO:+0200
TZNAME:CEST
DTSTART:20240331T010000
END:DAYLIGHT
BEGIN:STANDARD
TZOFFSETFROM:+0200
TZOFFSETTO:+0100
TZNAME:CET
DTSTART:20241027T010000
END:STANDARD
BEGIN:DAYLIGHT
TZOFFSETFROM:+0100
TZOFFSETTO:+0200
TZNAME:CEST
DTSTART:20250330T010000
END:DAYLIGHT
BEGIN:STANDARD
TZOFFSETFROM:+0200
TZOFFSETTO:+0100
TZNAME:CET
DTSTART:20251026T010000
END:STANDARD
BEGIN:DAYLIGHT
TZOFFSETFROM:+0100
TZOFFSETTO:+0200
TZNAME:CEST
DTSTART:20260329T010000
END:DAYLIGHT
BEGIN:STANDARD
TZOFFSETFROM:+0200
TZOFFSETTO:+0100
TZNAME:CET
DTSTART:20261025T010000
END:STANDARD
BEGIN:DAYLIGHT
TZOFFSETFROM:+0100
TZOFFSETTO:+0200
TZNAME:CEST
DTSTART:20270328T010000
END:DAYLIGHT
BEGIN:STANDARD
TZOFFSETFROM:+0200
TZOFFSETTO:+0100
TZNAME:CET
DTSTART:20271031T010000
END:STANDARD
END:VTIMEZONE
BEGIN:VEVENT
DTSTART;TZID=Europe/Madrid:20260311T190000
DTEND;TZID=Europe/Madrid:20260313T203000
DTSTAMP:20260421T111328
CREATED:20260310T162950Z
LAST-MODIFIED:20260310T162950Z
UID:4962-1773255600-1773433800@ezker-anitza.org
SUMMARY:Kubako dokumentalen zikloa
DESCRIPTION:Martxoaren 11tik 1era dokumentalen ziklora joan zaitezke\, Bilbon (Zirika. Erronda Kalea\, 12). 19:00etan hasten dira.
URL:https://ezker-anitza.org/eu/event/kubako-dokumentalen-zikloa
END:VEVENT
BEGIN:VEVENT
DTSTART;TZID=Europe/Madrid:20260213T190000
DTEND;TZID=Europe/Madrid:20260213T193000
DTSTAMP:20260421T111328
CREATED:20260113T104613Z
LAST-MODIFIED:20260113T104613Z
UID:4770-1771009200-1771011000@ezker-anitza.org
SUMMARY:Palestinaren aldeko burrunba Donostian
DESCRIPTION:Israelek Palestinan egiten jarraitzen duen genozidioa gaitzetsi nahi baduzu\, ‘Donostia-Palestina’ elkarteak Donostiako Bulebarran antolatu dituen lapikokadetan parte har dezakezu. Kartelean duzu informazioa.
URL:https://ezker-anitza.org/eu/event/palestinaren-aldeko-burrunba-donostian
END:VEVENT
BEGIN:VEVENT
DTSTART;TZID=Europe/Madrid:20260109T190000
DTEND;TZID=Europe/Madrid:20260109T193000
DTSTAMP:20260421T111328
CREATED:20260109T091101Z
LAST-MODIFIED:20260109T091101Z
UID:4754-1767985200-1767987000@ezker-anitza.org
SUMMARY:Burrunda\, Genizidioak Darrai!
DESCRIPTION:Israelek Palestinan egiten jarraitzen duen genozidioa gaitzetsi nahi baduzu\, ‘Donostia-Palestina’ elkarteak Donostiako Bulebarran antolatu dituen lapikokadetan parte har dezakezu. Kartelean duzu informazioa.
URL:https://ezker-anitza.org/eu/event/burrunda-genizidioak-darrai
END:VEVENT
BEGIN:VEVENT
DTSTART;TZID=Europe/Madrid:20260109T183000
DTEND;TZID=Europe/Madrid:20260109T200000
DTSTAMP:20260421T111328
CREATED:20260109T090235Z
LAST-MODIFIED:20260109T090235Z
UID:4749-1767983400-1767988800@ezker-anitza.org
SUMMARY:Javier Burónen "El problema de la vivienda" liburuaren aurkezpena
DESCRIPTION:Ostiralean\, urtarrilaren 9an\, 18:30ean\, Javier Burónen ‘El problema de la vivienda’ liburuaren aurkezpena egingo da. Ezker Anitza-IU Bizkaiak antolatu du ekitaldia\, etxebizitza eskuratzeko dauden arazo larriei aurre egiteko. Aurkezpena Hitz & Hitz\, Ibeniko kaia\, 1 (Bilbo) izango da.
URL:https://ezker-anitza.org/eu/event/javier-buronen-el-problema-de-la-vivienda-liburuaren-aurkezpena
END:VEVENT
BEGIN:VEVENT
DTSTART;TZID=Europe/Madrid:20251218T183000
DTEND;TZID=Europe/Madrid:20251218T200000
DTSTAMP:20260421T111328
CREATED:20251216T102345Z
LAST-MODIFIED:20251216T102802Z
UID:4698-1766082600-1766088000@ezker-anitza.org
SUMMARY:Manifestazioa Pertsona Migratzaileen Nazioarteko Egunean
DESCRIPTION:‘Eskubide guztiak pertsona guztientzat’ lelopean. Abenduaren 18an manifestazioa egingo da Bilbon\, Pertsona Migratzaileen Nazioarteko Eguna dela eta. Irudian duzu ibilbidea eta ordutegiak.
URL:https://ezker-anitza.org/eu/event/manifestazioa-pertsona-migratzaileen-nazioarteko-egunean
END:VEVENT
BEGIN:VEVENT
DTSTART;TZID=Europe/Madrid:20251217T190000
DTEND;TZID=Europe/Madrid:20251217T200000
DTSTAMP:20260421T111328
CREATED:20251210T135754Z
LAST-MODIFIED:20251215T153920Z
UID:4645-1765998000-1766001600@ezker-anitza.org
SUMMARY:'Begirada guztiak Gazan' solasaldia\, Gasteizen
DESCRIPTION:Abenduaren 17an\, 19:00etatik aurrera\, Gazak bizi duen benetako egoerari buruzko hitzaldia izango da. Bertan izango dira Manolo Garcia Morales ‘Teniente’\, Flotillako kidea; Haneen Salama\, aktibista feminista palestinarra; Daniel Lobato Bellido\, komunikabideetan Ekialde Ertainari buruz aditua; eta Alba Gutierrez Gómez\, Ezker Anitza-IUko Internazionaleko arduraduna. Hitzaldia Gasteizko Aldabe Kultur Etxean izango da.   Sarrera librea da lekua bete arte. \n \n 
URL:https://ezker-anitza.org/eu/event/begirada-guztiak-gazan-hitzaldia-gasteizen
END:VEVENT
BEGIN:VEVENT
DTSTART;TZID=Europe/Madrid:20251211T183000
DTEND;TZID=Europe/Madrid:20251211T200000
DTSTAMP:20260421T111328
CREATED:20251210T133422Z
LAST-MODIFIED:20251210T133422Z
UID:4640-1765477800-1765483200@ezker-anitza.org
SUMMARY:Eredu sozioekonomiko justuago eta berdinago baten inguruko hitzaldia Bilbon
DESCRIPTION:Ostegunean\, abenduak 11\, planetaren mugak errespetatuz gizarte bidezkoago eta berdinzaleago bat eraikitzea ahalbidetuko duen eredu sozioekonomiko berri baten definizioari buruzko hitzaldia izango da. Eva Garcia Sempere IU Federaleko Antolakuntza arduradunak eta Xabier Pombo Gonzalez Ezker Anitza-IUko Ingurumen Sareko arduradunak hartuko dute parte. 18:30ean hasiko da\, Ezker Anitza-IUren egoitzan (Garcia Salazar\, 4-Bilbo).
URL:https://ezker-anitza.org/eu/event/eredu-sozioekonomiko-justuago-eta-berdinago-baten-inguruko-hitzaldia-bilbon
END:VEVENT
BEGIN:VEVENT
DTSTART;TZID=Europe/Madrid:20251130T184500
DTEND;TZID=Europe/Madrid:20251130T210000
DTSTAMP:20260421T111328
CREATED:20251128T131715Z
LAST-MODIFIED:20251128T131957Z
UID:4587-1764528300-1764536400@ezker-anitza.org
SUMMARY:Zinema Kontsularreko 2. Zikloa: Alí Primera filma
DESCRIPTION:Zinema Kontsularraren Bigarren Zikloa Azkuna Zentro Bilbaon. ‘Alí Primera’ filma proiektatuko da. Azaroaren 30ean\, igandea\, 18:45ean.   Sarrera librea izango da lekua bete arte.
URL:https://ezker-anitza.org/eu/event/zinema-kontsularreko-2-zikloa-ali-primera-filma
END:VEVENT
BEGIN:VEVENT
DTSTART;TZID=Europe/Madrid:20251120T183000
DTEND;TZID=Europe/Madrid:20251120T203000
DTSTAMP:20260421T111328
CREATED:20251112T155507Z
LAST-MODIFIED:20251112T155507Z
UID:4431-1763663400-1763670600@ezker-anitza.org
SUMMARY:Arrasateko Zineforuma
DESCRIPTION:Arrasateko zineforumak ‘Hijas de la Nakba’ dokumentala proiektatuko du\, ondorengo solasaldiarekin. 18:30etatik aurrera Ezker Kultur Gunearen egoitzan (Aldai kalea\, 9).  Sarrera librea izango da lekua bete arte.
URL:https://ezker-anitza.org/eu/event/arrasateko-zineforuma
END:VEVENT
BEGIN:VEVENT
DTSTART;TZID=Europe/Madrid:20251114T193000
DTEND;TZID=Europe/Madrid:20251114T200000
DTSTAMP:20260421T111328
CREATED:20251112T161702Z
LAST-MODIFIED:20251112T161702Z
UID:4445-1763148600-1763150400@ezker-anitza.org
SUMMARY:Kontzentrazioa Palestinaren alde (Txominenea-Donostia)
DESCRIPTION:Genozidioa ez da gelditu. Hori dela eta\, azaroaren 14an elkarretaratzea egingo da 19:30ean Arteleku plazan (Txominenea). Bertan\, haurren zapatak jasoko dira palestinarrei bidaltzeko.   \n \n 
URL:https://ezker-anitza.org/eu/event/kontzentrazioa-palestinaren-alde-txominenea-donostia
END:VEVENT
BEGIN:VEVENT
DTSTART;TZID=Europe/Madrid:20251113T193000
DTEND;TZID=Europe/Madrid:20251113T213000
DTSTAMP:20260421T111328
CREATED:20251112T160427Z
LAST-MODIFIED:20251112T161752Z
UID:4436-1763062200-1763069400@ezker-anitza.org
SUMMARY:Hitzaldia: 'Justizia klimatikoa eta generoa'
DESCRIPTION:Hitzaldia azaroaren 13an izango da\, 19:30ean\, Irungo Kabigorrin. Informazio gehiago duzu kartelean.
URL:https://ezker-anitza.org/eu/event/hitzaldia-justizia-klimatikoa-eta-generoa
END:VEVENT
BEGIN:VEVENT
DTSTART;TZID=Europe/Madrid:20251030T190000
DTEND;TZID=Europe/Madrid:20251030T203000
DTSTAMP:20260421T111329
CREATED:20251008T090953Z
LAST-MODIFIED:20251008T090953Z
UID:4270-1761850800-1761856200@ezker-anitza.org
SUMMARY:Antonio Turiel\, Carlos Taibo eta Antonio Aretxabala Donostian
DESCRIPTION:Antonio Turielek\, Carlos Taibok eta Antonio Aretxabalak hitzaldi batean parte hartuko dute trantsizio faltsua azaleratzeko: natura zaintzearekin bat datorren bizitzarako apunteak. urriaren 30ean\, Donostiako Uliako Mintegietan\, 19:00etan.
URL:https://ezker-anitza.org/eu/event/antonio-turiel-carlos-taibo-eta-antonio-aretxabala-donostian
END:VEVENT
BEGIN:VEVENT
DTSTART;TZID=Europe/Madrid:20251015T110000
DTEND;TZID=Europe/Madrid:20251015T140000
DTSTAMP:20260421T111329
CREATED:20251008T083404Z
LAST-MODIFIED:20251008T083404Z
UID:4265-1760526000-1760536800@ezker-anitza.org
SUMMARY:Lanuzte orokorra Palestinaren alde
DESCRIPTION:Urriaren 15ean lanuzte orokorra deitu dute 11:00etatik 14:00etara\, Israelek Palestinan egindako genozidioaren aurka. Indar sindikalek bultzatu dute protesta\, Palestinako herriari elkartasuna adierazteko eta enpresei eta erakundeei Israelekin harreman komertzial oro hausteko eskatzeko. Esker Anitza-IUk greba orokorra eta egun horretan EAEko hiru hiriburuetan deitutako manifestazioak babestu ditu.   \n \n 
URL:https://ezker-anitza.org/eu/event/lanuzte-orokorra-palestinaren-alde
END:VEVENT
BEGIN:VEVENT
DTSTART;TZID=Europe/Madrid:20251010T190000
DTEND;TZID=Europe/Madrid:20251010T200000
DTSTAMP:20260421T111329
CREATED:20251008T092208Z
LAST-MODIFIED:20251008T092208Z
UID:4275-1760122800-1760126400@ezker-anitza.org
SUMMARY:Feministok Palestinarekin. Mobilizazio zaratatsua Donostian
DESCRIPTION:Feministok Palestinarekin talde feministek deitutako manifestazio zaratatsua da. Urriaren 10ean izango da\, Donostiako Bulebardean\, 19:00etatik aurrera. Ekarri zarata egiteko gauzak..
URL:https://ezker-anitza.org/eu/event/feministok-palestinarekin-mobilizazio-zaratatsua-donostian
END:VEVENT
BEGIN:VEVENT
DTSTART;TZID=Europe/Madrid:20251009T180000
DTEND;TZID=Europe/Madrid:20251009T193000
DTSTAMP:20260421T111329
CREATED:20251008T094248Z
LAST-MODIFIED:20251008T094248Z
UID:4280-1760032800-1760038200@ezker-anitza.org
SUMMARY:Mahaingurua: Trantsizio ekologiko koloniala
DESCRIPTION:Hemen duzue Trantsizio ekologiko koloniala izenburupean Uliako Mintegi parkean (Donostia) egingo den mahainguruarii buruzko informazioa. 18:00etatik aurrera.  \n \n 
URL:https://ezker-anitza.org/eu/event/mahaingurua-trantsizio-ekologiko-koloniala
END:VEVENT
BEGIN:VEVENT
DTSTART;TZID=Europe/Madrid:20250914T110000
DTEND;TZID=Europe/Madrid:20250914T120000
DTSTAMP:20260421T111329
CREATED:20250910T154608Z
LAST-MODIFIED:20250910T154608Z
UID:4150-1757847600-1757851200@ezker-anitza.org
SUMMARY:Giza katean Donostia
DESCRIPTION:Irailaren 14an erraustegiaren aurkako giza katea egingo da Kontxako hondartzan 11:00etan. Alderdi Ederretik abiatuko da.
URL:https://ezker-anitza.org/eu/event/giza-katean-donostia
END:VEVENT
BEGIN:VEVENT
DTSTART;TZID=Europe/Madrid:20250912T170000
DTEND;TZID=Europe/Madrid:20250912T173000
DTSTAMP:20260421T111329
CREATED:20250910T153915Z
LAST-MODIFIED:20250910T153915Z
UID:4145-1757696400-1757698200@ezker-anitza.org
SUMMARY:Israeldar talde batek Sestaoko Xake Txapelketan parte hartzearen aurkako protesta
DESCRIPTION:Elkarretaratze bat deitu da Israelgo talde baten banaketa salatzeko Sestaoko Nazioarteko Xake Txapelketan. irailaren 12an\, 17:00etan\, Eliza Parkeko gimnasioan (Sestao).
URL:https://ezker-anitza.org/eu/event/israeldar-talde-batek-sestaoko-xake-txapelketan-parte-hartzearen-aurkako-protesta
END:VEVENT
BEGIN:VEVENT
DTSTART;TZID=Europe/Madrid:20250910T190000
DTEND;TZID=Europe/Madrid:20250910T193000
DTSTAMP:20260421T111329
CREATED:20250910T150359Z
LAST-MODIFIED:20250910T153419Z
UID:4141-1757530800-1757532600@ezker-anitza.org
SUMMARY:Palestinaren aldeko elkarretaratzea (Donostia)
DESCRIPTION:Palestinara misio humanitario batekin abiatu den Nazioarteko Flotillaren aldeko kontzentrazioa. Irailaren 10ean\, asteazkena\, 19:00etan Boulevardean (Donostia).
URL:https://ezker-anitza.org/eu/event/palestinaren-aldeko-elkarretaratzea-donostia
END:VEVENT
BEGIN:VEVENT
DTSTART;TZID=Europe/Madrid:20250905T170000
DTEND;TZID=Europe/Madrid:20251003T203000
DTSTAMP:20260421T111329
CREATED:20250911T093605Z
LAST-MODIFIED:20250911T094014Z
UID:4158-1757091600-1759523400@ezker-anitza.org
SUMMARY:Ion Pousa Ruiz de Alegriaren pintura errealista Kulturaten\, "Palestinako herri heroikoari" eskainita
DESCRIPTION:Irailaren 5etik urriaren 3ra Ion Pousa Ruiz de Alegria artistaren pintura errealista erakusketa bat ikus daiteke Arrasateko Kulturate zentroan (Gipuzkoa)\, “palestinar herri heroikoari” eskainia. 17:30etik 20:30era bisita daiteke. Erakusketa honek Unadikum elkartearekin ekonomikoki kolaboratzeko aukera eskaintzen du\, Gazako biztanleei laguntzeko hainbat proiektu garatzen baititu. Ekarpenak Bizumen bidez egin daitezke: 622 10 40 72.
URL:https://ezker-anitza.org/eu/event/ion-pousa-ruiz-de-alegriaren-pintura-errealista-kulturaten-palestinako-herri-heroikoari-eskainita
END:VEVENT
BEGIN:VEVENT
DTSTART;TZID=Europe/Madrid:20250726T090000
DTEND;TZID=Europe/Madrid:20250726T123000
DTSTAMP:20260421T111329
CREATED:20250721T120614Z
LAST-MODIFIED:20250721T122256Z
UID:4079-1753520400-1753533000@ezker-anitza.org
SUMMARY:Kolitxako batailan eroritako gudari eta milizianoei omenaldia
DESCRIPTION:Larunbatean\, uztailaren 26an\, ‘Memoriaren mugarriak’ ekitaldia izango da. Kolitzako Batailan hildako gudari eta milizianoei omenaldia. Hitzordua Balmasedako San Severino plazan 9:00etan.
URL:https://ezker-anitza.org/eu/event/kolitxako-batailan-eroritako-gudari-eta-milizianoei-omenaldia
END:VEVENT
BEGIN:VEVENT
DTSTART;TZID=Europe/Madrid:20250724T200000
DTEND;TZID=Europe/Madrid:20250724T210000
DTSTAMP:20260421T111329
CREATED:20250724T102557Z
LAST-MODIFIED:20250724T102557Z
UID:4103-1753387200-1753390800@ezker-anitza.org
SUMMARY:'Escuchen a Daniel' mobilizazio feminista Bilbon
DESCRIPTION:Bilbon deitu den mobilizazio feministan parte hartzera animatzen zaitugu\, Danieli entzun diezaioten\, tratu txarrak ematen dituena ez baita inoiz aita ona izango. Uztailaren 4an\, 20:00etan\, Moyua plazatik Plaza Biribilera.
URL:https://ezker-anitza.org/eu/event/escuchen-a-daniel-mobilizazio-feminista-bilbon
END:VEVENT
BEGIN:VEVENT
DTSTART;TZID=Europe/Madrid:20250718T190000
DTEND;TZID=Europe/Madrid:20250718T200000
DTSTAMP:20260421T111329
CREATED:20250710T111218Z
LAST-MODIFIED:20250710T111218Z
UID:4062-1752865200-1752868800@ezker-anitza.org
SUMMARY:Inpunitate frankistaren aurkako kontzentrazioa Gasteizen
DESCRIPTION:Uztailaren 18an elkarretaratzea egingo dute Gasteizko Katedral Berrian\, 19etatik aurrera\, frankismoaren zigorgabetasuna salatzeko eta Espainiako Errepublikaren aurkako estatu kolpe faxistaren biktimentzat egia\, justizia eta erreparazioa eskatzeko. \n \n 
URL:https://ezker-anitza.org/eu/event/inpunitate-frankistaren-aurkako-kontzentrazioa-gasteizen
END:VEVENT
BEGIN:VEVENT
DTSTART;TZID=Europe/Madrid:20250712T093000
DTEND;TZID=Europe/Madrid:20250712T120000
DTSTAMP:20260421T111329
CREATED:20250708T112510Z
LAST-MODIFIED:20250708T112510Z
UID:4050-1752312600-1752321600@ezker-anitza.org
SUMMARY:Carlota Barrenetxea 'Txar' artistak aniztasunari buruzko horma-irudia margotuko du Eskoriatzan
DESCRIPTION:Debagoieneko Ezker Kultur Guneak eta Bakea eta Elkartasuna Fundazioak sexu aniztasunari buruz antolatu dituzten jardueren artean\, uztailaren 12an\, larunbata\, Carlota Barrenetxea ‘Txar’ artista bilbotarrak aniztasun sexualean oinarritutako mural bat margotuko du 9:30etatik aurrera Zubiateko Labea eraikinean. Artistak ‘Yo Ocaña’ dokumentalaren proiekziora eta ondorengo solasaldi irekira bertaratutakoek egindako ekarpenak gehituko dizkio bere horma-irudi proiektuari. Txar muralista eta hiri-artista ezaguna da\, eta bere lanak antzinako sobietar karteletan eta izaera industrialeko logotipo eta karteletan oinarritzen dira.
URL:https://ezker-anitza.org/eu/event/carlota-barrenetxea-txar-artistak-aniztasunari-buruzko-horma-irudia-margotuko-du-eskoriatzan
END:VEVENT
BEGIN:VEVENT
DTSTART;TZID=Europe/Madrid:20250710T190000
DTEND;TZID=Europe/Madrid:20250710T210000
DTSTAMP:20260421T111329
CREATED:20250708T111740Z
LAST-MODIFIED:20250708T111957Z
UID:4044-1752174000-1752181200@ezker-anitza.org
SUMMARY:Yo Ocaña' dokumentalaren proiekzioa Eskoriatzan
DESCRIPTION:Debagoieneko Ezker Kultur Guneak eta Paz y Solidaridad Fundazioak José Pérez Ocaña margolariaren bizitzaren errepasoa egiten duen ‘Yo Ocaña’ dokumentala proiektatuko dute ekainaren 10ean\, 19:00etan\, Eskoriatzako Zaldibar Antzokian. Perez Ocañak trabestismoa eta performanceak erabiltzen zituen aurkezpen jantzi gisa. Dokumentala eman ondoren\, solasaldi ireki bat egingo da\, parte hartzen duten pertsonen artean gizartearen aniztasunaren erradiografia bat egiteko. Jardunaldiari amaiera emateko\, ‘askotariko bingoa’ egingo da eta kartoiak banatuko dira sarreran. Irabazleak produktu solidarioen saski bat jasoko du.     \n 
URL:https://ezker-anitza.org/eu/event/yo-ocana-dokumentalaren-proiekzioa-eskoriatzan
END:VEVENT
BEGIN:VEVENT
DTSTART;TZID=Europe/Madrid:20250626T190000
DTEND;TZID=Europe/Madrid:20250627T200000
DTSTAMP:20260421T111329
CREATED:20250625T101536Z
LAST-MODIFIED:20250625T101536Z
UID:3952-1750964400-1751054400@ezker-anitza.org
SUMMARY:Mobilizazioak euskal hiriburuetan 'Iranen Aurkako Eraso Inperialista Gelditu'
DESCRIPTION:Palestinarekin Elkartasuna plataformak mobilizazioak deitu ditu EAEko hiru hiriburuetan eta Iruñean\, Israelek Iranen aurka egindako eraso inperialista salatzeko. Ekainaren 26an eta 27an izango dira. Bat egin nahi baduzu\, irudian dituzu lekuak eta orduak.
URL:https://ezker-anitza.org/eu/event/mobilizazioak-euskal-hiriburuetan-iranen-aurkako-eraso-inperialista-gelditu
END:VEVENT
BEGIN:VEVENT
DTSTART;TZID=Europe/Madrid:20250626T190000
DTEND;TZID=Europe/Madrid:20250626T200000
DTSTAMP:20260421T111329
CREATED:20250625T104151Z
LAST-MODIFIED:20250625T104151Z
UID:3962-1750964400-1750968000@ezker-anitza.org
SUMMARY:Bilboko bihotzak taupada egingo du Gazaren alde
DESCRIPTION:Ekainaren 26an milaka lagun daude deituta Palestinaren alde mobilizatzera\, 19:00etan Bilboko Moyua plazatik abiatuta. Manifestazioak Moyua plazatik Bilboko Udaletxe plazara arteko bidea egingo du.  \nDeitzaileak: Begirune\, CEAR Euskadi\, CVX Arrupe Elkartea\, Gernika Palestina\, Ongi Etorri Errefuxiatuak\, Pertsonalde eta Zeharkako Errefuxiatuak.
URL:https://ezker-anitza.org/eu/event/bilboko-bihotzak-taupada-egingo-du-gazaren-alde
END:VEVENT
BEGIN:VEVENT
DTSTART;TZID=Europe/Madrid:20250626T190000
DTEND;TZID=Europe/Madrid:20250626T193000
DTSTAMP:20260421T111329
CREATED:20250625T102924Z
LAST-MODIFIED:20250625T102924Z
UID:3957-1750964400-1750966200@ezker-anitza.org
SUMMARY:Elkarretaratzea 'Matxismoak egunero hiltzen gaitu'
DESCRIPTION:Hileko azken ostegunero bezala\, MDM Euskadi mugimendu feministak elkarretaratzea deitu du hilketa matxistak salatzeko. Ekainaren 26an izango da\, 19:00etan\, Gasteizko Andra Mari Zuriaren plazan.
URL:https://ezker-anitza.org/eu/event/elkarretaratzea-matxismoak-egunero-hiltzen-gaitu-5
END:VEVENT
BEGIN:VEVENT
DTSTART;TZID=Europe/Madrid:20250625T180000
DTEND;TZID=Europe/Madrid:20250625T193000
DTSTAMP:20260421T111329
CREATED:20250625T100126Z
LAST-MODIFIED:20250625T100126Z
UID:3947-1750874400-1750879800@ezker-anitza.org
SUMMARY:Topaketa Donostian: 'Herri utopiak ehuntzen'
DESCRIPTION:Bizitza\, lurra\, lurraldea eta natura defendatzen eta zaintzen duten emakumeekin topaketa izango da ekainaren 25 honetan. Emakumeen Etxean (Okendo kalea\, 9- Donostia)\, 18:00etatik 19:30era.  \n \n 
URL:https://ezker-anitza.org/eu/event/topaketa-donostian-herri-utopiak-ehuntzen
END:VEVENT
BEGIN:VEVENT
DTSTART;TZID=Europe/Madrid:20250615T120000
DTEND;TZID=Europe/Madrid:20250615T140000
DTSTAMP:20260421T111329
CREATED:20250529T153402Z
LAST-MODIFIED:20250529T153402Z
UID:3846-1749988800-1749996000@ezker-anitza.org
SUMMARY:II. Martxa Errepublikarra Madrilen
DESCRIPTION:Ekainaren 15ean II. Martxa Errepublikarra egingo da Madrilen.  \n12:00etan Neptuno plaza Puerta del Soleraino\, bakearen eta Errepublikaren aldeko festa eta borroka egun batean.
URL:https://ezker-anitza.org/eu/event/ii-martxa-errepublikarra-madrilen
END:VEVENT
BEGIN:VEVENT
DTSTART;TZID=Europe/Madrid:20250614T120000
DTEND;TZID=Europe/Madrid:20250614T123000
DTSTAMP:20260421T111329
CREATED:20250526T152739Z
LAST-MODIFIED:20250526T152739Z
UID:3824-1749902400-1749904200@ezker-anitza.org
SUMMARY:Apartheid trena gelditu dezagun mobilizazioa
DESCRIPTION:Israelgo proiektu kolonialistak Palestinako lurra eta baliabideak bereganatzea du helburu eta CAF euskal enpresa okupazio hori errazten duen tranbia eraikitzen ari da. Urteko batzarrean etekinak banatzen dituzten bitartean BDZ Euskal Herritik mobilizaziorako deia egiten dugu.  \nDonostiako Gipuzkoa plazatik\, ekainaren 14an\, 12:00etan. \n“Apartheidaren trena” gelditu dezagun!
URL:https://ezker-anitza.org/eu/event/apartheid-trena-gelditu-dezagun-mobilizazioa
END:VEVENT
END:VCALENDAR